BEGIN:VCALENDAR
VERSION:2.0
PRODID:-//Tukios.com/
BEGIN:VEVENT
UID:5ec8c6fa-5002-41d6-95e3-0c0fd32b4361@www.delaneyfuneral.com
DTSTAMP:20260421T085329Z
DTSTART:20260415T200000Z
DTEND:20260415T230000Z
SUMMARY:Visitation
DESCRIPTION:
URL:https://www.delaneyfuneral.com/obituaries/angeline-balzi
LOCATION: 48 Common St  Walpole MA 02081
GEO:42.1432714;-71.2523868
END:VEVENT
END:VCALENDAR