BEGIN:VCALENDAR
VERSION:2.0
PRODID:-//Tukios.com/
BEGIN:VEVENT
UID:a9ccb058-d541-4ed8-898d-5666e55e3032@www.delaneyfuneral.com
DTSTAMP:20260423T213710Z
DTSTART:20260501T140000Z
DTEND:20260501T150000Z
SUMMARY:Mass of Christian Burial
DESCRIPTION:
URL:https://www.delaneyfuneral.com/obituaries/dorothy-dyer
LOCATION: 86 Main Street  Norfolk MA 02056
GEO:42.1212477;-71.316049
END:VEVENT
END:VCALENDAR