BEGIN:VCALENDAR
VERSION:2.0
PRODID:-//Tukios.com/
BEGIN:VEVENT
UID:4e2debb6-21d3-4203-b3d5-3c36b7786d1e@www.delaneyfuneral.com
DTSTAMP:20260423T213025Z
DTSTART:20260518T140000Z
DTEND:20260518T150000Z
SUMMARY:Celebration of Life
DESCRIPTION:
URL:https://www.delaneyfuneral.com/obituaries/maureen-upton
LOCATION: 48 Common St  Walpole MA 02081
GEO:42.1432714;-71.2523868
END:VEVENT
END:VCALENDAR