BEGIN:VCALENDAR
VERSION:2.0
PRODID:-//Tukios.com/
BEGIN:VEVENT
UID:58073abc-1e09-4b92-b2bf-31c5a3de4424@www.delaneyfuneral.com
DTSTAMP:20260423T213119Z
DTSTART:20260518T150000Z
DTEND:20260518T160000Z
SUMMARY:Funeral Home Service
DESCRIPTION:
URL:https://www.delaneyfuneral.com/obituaries/maureen-upton
LOCATION: 48 Common St  Walpole MA 02081
GEO:42.1432714;-71.2523868
END:VEVENT
END:VCALENDAR